BEGIN:VCALENDAR
VERSION:2.0
PRODID:-//Université de Lubumbashi - ECPv6.5.0//NONSGML v1.0//EN
CALSCALE:GREGORIAN
METHOD:PUBLISH
X-WR-CALNAME:Université de Lubumbashi
X-ORIGINAL-URL:https://www.unilu.ac.cd
X-WR-CALDESC:évènements pour Université de Lubumbashi
REFRESH-INTERVAL;VALUE=DURATION:PT1H
X-Robots-Tag:noindex
X-PUBLISHED-TTL:PT1H
BEGIN:VTIMEZONE
TZID:UTC
BEGIN:STANDARD
TZOFFSETFROM:+0000
TZOFFSETTO:+0000
TZNAME:UTC
DTSTART:20240101T000000
END:STANDARD
END:VTIMEZONE
BEGIN:VEVENT
DTSTART;TZID=UTC:20240208T083000
DTEND;TZID=UTC:20240209T160000
DTSTAMP:20260423T122851
CREATED:20170117T062207Z
LAST-MODIFIED:20240207T131738Z
UID:313-1707381000-1707494400@www.unilu.ac.cd
SUMMARY:Rentrée doctorale
DESCRIPTION:La rentrée doctorale 2023-2024 aura lieu jeudi 08 février et vendredi 09 février 2024. \nPublique cible: Le personnel scientifique et les candidats à la thèse et au Diplôme d’étude approfondie. \nLa cérémonie aura lieu dans la salle Monseigneur Tshibangu Tshishiku. \nLa rentrée doctorale sera marquée par le mot d’ouverture et d’orientation de Monsieur le Recteur\, le Professeur Gilbert Kishiba Fitula et les presentations des professeurs et membres de la commission permanente de l’école doctorale. \nL’école doctorale est subdivisée en trois sections à savoir: \n–         La section sciences exactes ; \n–         La Section sciences humaines ; \n–         La section sciences du vivant.
URL:https://www.unilu.ac.cd/cal/learning-live/
LOCATION:Building Administraif\, Lubumbashi\, Congo\, The Democratic Republic Of The
CATEGORIES:English for university
ATTACH;FMTTYPE=image/jpeg:https://www.unilu.ac.cd/wp-content/uploads/2023/06/IMG-20230622-WA0020.jpg
ORGANIZER;CN="Secretariat G%C3%A9r%C3%A9nal charg%C3%A9 de la recherche":MAILTO:raymond.mafulu.kanga@gmail.com
END:VEVENT
END:VCALENDAR